BEGIN:VCALENDAR
VERSION:2.0
PRODID:-//CESOC - Center for Earth System Observation and Computational Analysis - ECPv6.15.20//NONSGML v1.0//EN
CALSCALE:GREGORIAN
METHOD:PUBLISH
X-WR-CALNAME:CESOC - Center for Earth System Observation and Computational Analysis
X-ORIGINAL-URL:https://cesoc.net
X-WR-CALDESC:Events for CESOC - Center for Earth System Observation and Computational Analysis
REFRESH-INTERVAL;VALUE=DURATION:PT1H
X-Robots-Tag:noindex
X-PUBLISHED-TTL:PT1H
BEGIN:VTIMEZONE
TZID:Europe/Berlin
BEGIN:DAYLIGHT
TZOFFSETFROM:+0100
TZOFFSETTO:+0200
TZNAME:CEST
DTSTART:20230326T010000
END:DAYLIGHT
BEGIN:STANDARD
TZOFFSETFROM:+0200
TZOFFSETTO:+0100
TZNAME:CET
DTSTART:20231029T010000
END:STANDARD
BEGIN:DAYLIGHT
TZOFFSETFROM:+0100
TZOFFSETTO:+0200
TZNAME:CEST
DTSTART:20240331T010000
END:DAYLIGHT
BEGIN:STANDARD
TZOFFSETFROM:+0200
TZOFFSETTO:+0100
TZNAME:CET
DTSTART:20241027T010000
END:STANDARD
BEGIN:DAYLIGHT
TZOFFSETFROM:+0100
TZOFFSETTO:+0200
TZNAME:CEST
DTSTART:20250330T010000
END:DAYLIGHT
BEGIN:STANDARD
TZOFFSETFROM:+0200
TZOFFSETTO:+0100
TZNAME:CET
DTSTART:20251026T010000
END:STANDARD
END:VTIMEZONE
BEGIN:VEVENT
DTSTART;TZID=Europe/Berlin:20240604T110000
DTEND;TZID=Europe/Berlin:20240604T110000
DTSTAMP:20260425T173723
CREATED:20240502T102101Z
LAST-MODIFIED:20240502T102101Z
UID:8696-1717498800-1717498800@cesoc.net
SUMMARY:Dr. Michael Langguth – Downscale-Bench : A benchmark dataset for statistical downscaling of meteorological data
DESCRIPTION:This semester\, we are excited to announce that the seminar series will be hosted by our collaborative partner ECMWF at their buildings in Bonn and it will be streamed online (via zoom).CESOC continues the seminar series “My Research” this Summer term 2024 with \nDr. Michael Langguth \nfrom the Institute for Advanced Simulation (IAS) at the Research Centre Jülich\, talking on their work \n“Downscale-Bench : A benchmark dataset for statistical downscaling of meteorological data” \nwhen: on Tuesday\, 04 June 2024 at 11:00 am (CEST)\nIt is open to any interested person within the CESOC research disciplines (any Earth system sciences\, mathematics or computer science).\nPlease contact info[@]cesoc.net\, if you would like to participate.\nFull Schedule could be found here! \nAbstract: \nStatistical downscaling with deep neural networks has recently gained a lot of momentum in the meteorological community. While several studies show promising results\, direct comparison between different approaches is often impeded due to a large variety in the related downscaling task (target quantity)\, the deployed dataset and the evaluation framework. Furthermore\, the performance of deep neural networks for statistical downscaling is barely compared to classical downscaling methods that have been established in the meteorological domain over the last decades. To enable fair comparison between different downscaling techniques\, we suggest DownscaleBench\, a benchmark dataset based on the coarse-grained ERA5 and the high-resolved COSMO REA6-dataset. DownscaleBench provides a standardized set of predictors for three (deterministic) downscaling tasks\, that are downscaling of 2m temperature\, 100m wind and solar irradiance. The ready-to-use datasets are complemented by a set of baseline models (standard deep neural networks and a classical method) whose performance is accessed in a task-specific\, but standardized evaluation framework.
URL:https://cesoc.net/event/langguth/
CATEGORIES:CESOC seminar series "my research",summer term 2024
END:VEVENT
END:VCALENDAR