BEGIN:VCALENDAR
VERSION:2.0
PRODID:-//CESOC - Center for Earth System Observation and Computational Analysis - ECPv6.15.20//NONSGML v1.0//EN
CALSCALE:GREGORIAN
METHOD:PUBLISH
X-WR-CALNAME:CESOC - Center for Earth System Observation and Computational Analysis
X-ORIGINAL-URL:https://cesoc.net
X-WR-CALDESC:Events for CESOC - Center for Earth System Observation and Computational Analysis
REFRESH-INTERVAL;VALUE=DURATION:PT1H
X-Robots-Tag:noindex
X-PUBLISHED-TTL:PT1H
BEGIN:VTIMEZONE
TZID:Europe/Berlin
BEGIN:DAYLIGHT
TZOFFSETFROM:+0100
TZOFFSETTO:+0200
TZNAME:CEST
DTSTART:20240331T010000
END:DAYLIGHT
BEGIN:STANDARD
TZOFFSETFROM:+0200
TZOFFSETTO:+0100
TZNAME:CET
DTSTART:20241027T010000
END:STANDARD
BEGIN:DAYLIGHT
TZOFFSETFROM:+0100
TZOFFSETTO:+0200
TZNAME:CEST
DTSTART:20250330T010000
END:DAYLIGHT
BEGIN:STANDARD
TZOFFSETFROM:+0200
TZOFFSETTO:+0100
TZNAME:CET
DTSTART:20251026T010000
END:STANDARD
BEGIN:DAYLIGHT
TZOFFSETFROM:+0100
TZOFFSETTO:+0200
TZNAME:CEST
DTSTART:20260329T010000
END:DAYLIGHT
BEGIN:STANDARD
TZOFFSETFROM:+0200
TZOFFSETTO:+0100
TZNAME:CET
DTSTART:20261025T010000
END:STANDARD
END:VTIMEZONE
BEGIN:VEVENT
DTSTART;VALUE=DATE:20250827
DTEND;VALUE=DATE:20250830
DTSTAMP:20260421T132215
CREATED:20250219T111726Z
LAST-MODIFIED:20250219T111726Z
UID:8796-1756252800-1756511999@cesoc.net
SUMMARY:Hackathon on Machine Learning for the Earth System
DESCRIPTION:[et_pb_section admin_label=\”section\”]\n			[et_pb_row admin_label=\”row\”]\n				[et_pb_column type=\”4_4\”][et_pb_text admin_label=\”Text\”]Join us for the Hackathon on Machine Learning for the Earth System – a hands-on event for PhD students and early-career researchers passionate about applying ML to weather and climate research! \n???? August 27–29\, 2025 \n???? Location: Computer Science Department\, University of Bonn\, Germany \nFor more information\, please visit: https://cesoc.net/hackathon-on-machine-learning-for-the-earth-system/[/et_pb_text][/et_pb_column]\n			[/et_pb_row]\n		[/et_pb_section]
URL:https://cesoc.net/event/hackathon-on-machine-learning-for-the-earth-system/
END:VEVENT
END:VCALENDAR