BEGIN:VCALENDAR
VERSION:2.0
PRODID:-//CESOC - Center for Earth System Observation and Computational Analysis - ECPv6.15.20//NONSGML v1.0//EN
CALSCALE:GREGORIAN
METHOD:PUBLISH
X-WR-CALNAME:CESOC - Center for Earth System Observation and Computational Analysis
X-ORIGINAL-URL:https://cesoc.net
X-WR-CALDESC:Events for CESOC - Center for Earth System Observation and Computational Analysis
REFRESH-INTERVAL;VALUE=DURATION:PT1H
X-Robots-Tag:noindex
X-PUBLISHED-TTL:PT1H
BEGIN:VTIMEZONE
TZID:Europe/Berlin
BEGIN:DAYLIGHT
TZOFFSETFROM:+0100
TZOFFSETTO:+0200
TZNAME:CEST
DTSTART:20250330T010000
END:DAYLIGHT
BEGIN:STANDARD
TZOFFSETFROM:+0200
TZOFFSETTO:+0100
TZNAME:CET
DTSTART:20251026T010000
END:STANDARD
BEGIN:DAYLIGHT
TZOFFSETFROM:+0100
TZOFFSETTO:+0200
TZNAME:CEST
DTSTART:20260329T010000
END:DAYLIGHT
BEGIN:STANDARD
TZOFFSETFROM:+0200
TZOFFSETTO:+0100
TZNAME:CET
DTSTART:20261025T010000
END:STANDARD
BEGIN:DAYLIGHT
TZOFFSETFROM:+0100
TZOFFSETTO:+0200
TZNAME:CEST
DTSTART:20270328T010000
END:DAYLIGHT
BEGIN:STANDARD
TZOFFSETFROM:+0200
TZOFFSETTO:+0100
TZNAME:CET
DTSTART:20271031T010000
END:STANDARD
END:VTIMEZONE
BEGIN:VEVENT
DTSTART;TZID=Europe/Berlin:20260706T130000
DTEND;TZID=Europe/Berlin:20260706T140000
DTSTAMP:20260422T155243
CREATED:20260324T221558Z
LAST-MODIFIED:20260415T151637Z
UID:8842-1783342800-1783346400@cesoc.net
SUMMARY:Livia Freire - Boundary layer\, turbulence\, and mathematics [TBC]
DESCRIPTION:Title and date tbc. \nhttps://freirelivia.gitlab.io/
URL:https://cesoc.net/event/freire/
LOCATION:Lecture Hall 4.001 (4th floor) via Höninger Weg 100\, 50969 Cologne\, Pohligstr. 3\,\, Cologne\, 50969\, Germany
CATEGORIES:CESOC Colloquium,summer term 2026,Talk
END:VEVENT
END:VCALENDAR